BEGIN:VCALENDAR
VERSION:2.0
PRODID:-//Squarespace Inc/Squarespace 6//v6//EN
BEGIN:VEVENT
UID:58c60e189f7456bf7d8bd265@squarespace.com
DTSTAMP:20170313T031318Z
DTSTART:20170408T223000Z
DTEND:20170409T003000Z
SUMMARY:THE HACK ENSEMBLE
END:VEVENT
END:VCALENDAR
