BEGIN:VCALENDAR
VERSION:2.0
PRODID:-//Squarespace Inc/Squarespace 6//v6//EN
BEGIN:VEVENT
UID:58c60c5c6b8f5b5e4d6a74d7@squarespace.com
DTSTAMP:20170313T030612Z
DTSTART:20170406T223000Z
DTEND:20170407T003000Z
SUMMARY:BEN MASTWYK
END:VEVENT
END:VCALENDAR
