BEGIN:VCALENDAR
VERSION:2.0
PRODID:-//Squarespace Inc/Squarespace 6//v6//EN
BEGIN:VEVENT
UID:58c9d07637c5813452aaf7cb@squarespace.com
DTSTAMP:20170315T233929Z
DTSTART:20170422T223000Z
DTEND:20170423T003000Z
SUMMARY:LOSUMO
END:VEVENT
END:VCALENDAR
