BEGIN:VCALENDAR
VERSION:2.0
PRODID:-//Squarespace Inc/Squarespace 6//v6//EN
BEGIN:VEVENT
UID:58c60f28440243602d537310@squarespace.com
DTSTAMP:20170313T031738Z
DTSTART:20170420T223000Z
DTEND:20170421T003000Z
SUMMARY:SODA EAVES
END:VEVENT
END:VCALENDAR
