BEGIN:VCALENDAR
VERSION:2.0
PRODID:-//Squarespace Inc/Squarespace 6//v6//EN
BEGIN:VEVENT
UID:58d0a661bebafb6cdd920461@squarespace.com
DTSTAMP:20170321T040731Z
DTSTART:20170402T170000Z
DTEND:20170403T010000Z
SUMMARY:ORPHFUND CHARITY GIG
END:VEVENT
END:VCALENDAR
