BEGIN:VCALENDAR
VERSION:2.0
PRODID:-//Squarespace Inc/Squarespace 6//v6//EN
BEGIN:VEVENT
UID:58c60caf8419c2ae2b02d98c@squarespace.com
DTSTAMP:20170313T030754Z
DTSTART:20170413T223000Z
DTEND:20170414T003000Z
SUMMARY:BEN MASTWYK
END:VEVENT
END:VCALENDAR
