BEGIN:VCALENDAR
VERSION:2.0
PRODID:-//Squarespace Inc/Squarespace 6//v6//EN
BEGIN:VEVENT
UID:58c60d71bebafb01e0548035@squarespace.com
DTSTAMP:20170313T031124Z
DTSTART:20170401T223000Z
DTEND:20170402T003000Z
SUMMARY:EDDIE NUARDO DUO
END:VEVENT
END:VCALENDAR
