BEGIN:VCALENDAR
VERSION:2.0
PRODID:-//Squarespace Inc/Squarespace 6//v6//EN
BEGIN:VEVENT
UID:58ad1ced46c3c4f5f485e98c@squarespace.com
DTSTAMP:20170222T051124Z
DTSTART:20170309T233000Z
DTEND:20170310T013000Z
SUMMARY:TOM LEE-RICHARDS
END:VEVENT
END:VCALENDAR
