BEGIN:VCALENDAR
VERSION:2.0
PRODID:-//Squarespace Inc/Squarespace 6//v6//EN
BEGIN:VEVENT
UID:58ad296c17bffc503f311f82@squarespace.com
DTSTAMP:20170222T060423Z
DTSTART:20170305T230000Z
DTEND:20170306T000000Z
SUMMARY:SYD RD STREET PARTY: ZOE FOX
END:VEVENT
END:VCALENDAR
