BEGIN:VCALENDAR
VERSION:2.0
PRODID:-//Squarespace Inc/Squarespace 6//v6//EN
BEGIN:VEVENT
UID:58ad28164402435c094a9f74@squarespace.com
DTSTAMP:20170222T060202Z
DTSTART:20170305T220000Z
DTEND:20170305T230000Z
SUMMARY:SYD RD STREET PARTY: RAT CHILD
END:VEVENT
END:VCALENDAR
