BEGIN:VCALENDAR
VERSION:2.0
PRODID:-//Squarespace Inc/Squarespace 6//v6//EN
BEGIN:VEVENT
UID:58ad29f937c581bd1a687c30@squarespace.com
DTSTAMP:20170222T060921Z
DTSTART:20170306T000000Z
DTEND:20170306T010000Z
SUMMARY:SYD RD STREET PARTY: ALISTER TURRILL
END:VEVENT
END:VCALENDAR
