BEGIN:VCALENDAR
VERSION:2.0
PRODID:-//Squarespace Inc/Squarespace 6//v6//EN
BEGIN:VEVENT
UID:58ad2b19db29d628c83cd88d@squarespace.com
DTSTAMP:20170222T061212Z
DTSTART:20170306T010000Z
DTEND:20170306T050000Z
SUMMARY:AFTER SYDNEY RD STREET PARTY
END:VEVENT
END:VCALENDAR
