BEGIN:VCALENDAR
VERSION:2.0
PRODID:-//Squarespace Inc/Squarespace 6//v6//EN
BEGIN:VEVENT
UID:58ad1bbe03596eec00cc5b3f@squarespace.com
DTSTAMP:20170222T050631Z
DTSTART:20170304T233000Z
DTEND:20170305T013000Z
SUMMARY:UNPAINTED PROSPECTS
END:VEVENT
END:VCALENDAR
