BEGIN:VCALENDAR
VERSION:2.0
PRODID:-//Squarespace Inc/Squarespace 6//v6//EN
BEGIN:VEVENT
UID:58c6082ed482e95e8e75751c@squarespace.com
DTSTAMP:20170313T025453Z
DTSTART:20170330T223000Z
DTEND:20170331T003000Z
SUMMARY:BEN MASTWYK
END:VEVENT
END:VCALENDAR
