BEGIN:VCALENDAR
VERSION:2.0
PRODID:-//Squarespace Inc/Squarespace 6//v6//EN
BEGIN:VEVENT
UID:58ad2c28e4fcb594b8f56048@squarespace.com
DTSTAMP:20170222T061442Z
DTSTART:20170325T223000Z
DTEND:20170326T003000Z
SUMMARY:LACH LANEOUS & ZIGGY ZEITGEIST
END:VEVENT
END:VCALENDAR
