BEGIN:VCALENDAR
VERSION:2.0
PRODID:-//Squarespace Inc/Squarespace 6//v6//EN
BEGIN:VEVENT
UID:58c5f0a1bebafb01e053072d@squarespace.com
DTSTAMP:20170313T010804Z
DTSTART:20170323T223000Z
DTEND:20170324T003000Z
SUMMARY:GREG STEPS
END:VEVENT
END:VCALENDAR
