BEGIN:VCALENDAR
VERSION:2.0
PRODID:-//Squarespace Inc/Squarespace 6//v6//EN
BEGIN:VEVENT
UID:58aa78839f74561f4dc53c64@squarespace.com
DTSTAMP:20170227T054501Z
DTSTART:20170302T233000Z
DTEND:20170303T013000Z
SUMMARY:DANIEL WATKINS & PADDY MONTGOMERY
END:VEVENT
END:VCALENDAR
