BEGIN:VCALENDAR
VERSION:2.0
PRODID:-//Squarespace Inc/Squarespace 6//v6//EN
BEGIN:VEVENT
UID:58ad2bca2e69cfe4c7acaea6@squarespace.com
DTSTAMP:20170222T061345Z
DTSTART:20170318T223000Z
DTEND:20170319T003000Z
SUMMARY:LACH LANEOUS & ZIGGY ZEITGEIST
END:VEVENT
END:VCALENDAR
