BEGIN:VCALENDAR
VERSION:2.0
PRODID:-//Squarespace Inc/Squarespace 6//v6//EN
BEGIN:VEVENT
UID:58ad206f9de4bb477638d2e1@squarespace.com
DTSTAMP:20170222T052608Z
DTSTART:20170316T223000Z
DTEND:20170317T003000Z
SUMMARY:MIJO BISCAN
END:VEVENT
END:VCALENDAR
