BEGIN:VCALENDAR
VERSION:2.0
PRODID:-//Squarespace Inc/Squarespace 6//v6//EN
BEGIN:VEVENT
UID:58ad1c612994ca421c44b41a@squarespace.com
DTSTAMP:20170222T050818Z
DTSTART:20170311T233000Z
DTEND:20170312T013000Z
SUMMARY:UNPAINTED PROSPECTS
END:VEVENT
END:VCALENDAR
