BEGIN:VCALENDAR
VERSION:2.0
PRODID:-//Squarespace Inc/Squarespace 6//v6//EN
BEGIN:VEVENT
UID:58771a2320099e396ba34bcd@squarespace.com
DTSTAMP:20170119T045617Z
DTSTART:20170204T233000Z
DTEND:20170205T013000Z
SUMMARY:Gibberish
END:VEVENT
END:VCALENDAR
