BEGIN:VCALENDAR
VERSION:2.0
PRODID:-//Squarespace Inc/Squarespace 6//v6//EN
BEGIN:VEVENT
UID:58771c2d1b631bfb241fbb15@squarespace.com
DTSTAMP:20170119T045754Z
DTSTART:20170225T233000Z
DTEND:20170226T013000Z
SUMMARY:Gibberish
END:VEVENT
END:VCALENDAR
