BEGIN:VCALENDAR
VERSION:2.0
PRODID:-//Squarespace Inc/Squarespace 6//v6//EN
BEGIN:VEVENT
UID:58771b109de4bb64f7122a97@squarespace.com
DTSTAMP:20170119T045655Z
DTSTART:20170218T233000Z
DTEND:20170219T013000Z
SUMMARY:Gibberish
END:VEVENT
END:VCALENDAR
