BEGIN:VCALENDAR
VERSION:2.0
PRODID:-//Squarespace Inc/Squarespace 6//v6//EN
BEGIN:VEVENT
UID:58771959e6f2e1b3ddc2d761@squarespace.com
DTSTAMP:20170115T093616Z
DTSTART:20170216T233000Z
DTEND:20170217T013000Z
SUMMARY:Adrian Whitehead & Jethro Pickett
END:VEVENT
END:VCALENDAR
