BEGIN:VCALENDAR
VERSION:2.0
PRODID:-//Squarespace Inc/Squarespace 6//v6//EN
BEGIN:VEVENT
UID:58771aa61b10e3abff322b24@squarespace.com
DTSTAMP:20170119T045602Z
DTSTART:20170211T233000Z
DTEND:20170212T013000Z
SUMMARY:Gibberish
END:VEVENT
END:VCALENDAR
