BEGIN:VCALENDAR
VERSION:2.0
PRODID:-//Squarespace Inc/Squarespace 6//v6//EN
BEGIN:VEVENT
UID:585b5cbfff7c505ae4216197@squarespace.com
DTSTAMP:20161222T050855Z
DTSTART:20170128T233000Z
DTEND:20170129T013000Z
SUMMARY:SELKI AND THE COMETS
END:VEVENT
END:VCALENDAR
