BEGIN:VCALENDAR
VERSION:2.0
PRODID:-//Squarespace Inc/Squarespace 6//v6//EN
BEGIN:VEVENT
UID:58575eb0414fb58cb9fb0c94@squarespace.com
DTSTAMP:20161219T041543Z
DTSTART:20170127T223000Z
DTEND:20170128T013000Z
SUMMARY:PUB BINGO W TREV & SPARX
END:VEVENT
END:VCALENDAR
