BEGIN:VCALENDAR
VERSION:2.0
PRODID:-//Squarespace Inc/Squarespace 6//v6//EN
BEGIN:VEVENT
UID:58575d8029687f4b4bf8a3e0@squarespace.com
DTSTAMP:20161219T041034Z
DTSTART:20170126T233000Z
DTEND:20170127T013000Z
SUMMARY:GREG STEPS
END:VEVENT
END:VCALENDAR
