BEGIN:VCALENDAR
VERSION:2.0
PRODID:-//Squarespace Inc/Squarespace 6//v6//EN
BEGIN:VEVENT
UID:585b2d219f7456394cdc93af@squarespace.com
DTSTAMP:20161222T013309Z
DTSTART:20170121T233000Z
DTEND:20170122T013000Z
SUMMARY:SELKI AND THE COMETS
END:VEVENT
END:VCALENDAR
