BEGIN:VCALENDAR
VERSION:2.0
PRODID:-//Squarespace Inc/Squarespace 6//v6//EN
BEGIN:VEVENT
UID:58575ddd197aea66c1e2bb0a@squarespace.com
DTSTAMP:20161219T041426Z
DTSTART:20170120T223000Z
DTEND:20170121T013000Z
SUMMARY:PUB BINGO W TREV & SPARX
END:VEVENT
END:VCALENDAR
