BEGIN:VCALENDAR
VERSION:2.0
PRODID:-//Squarespace Inc/Squarespace 6//v6//EN
BEGIN:VEVENT
UID:58575cbef5e2315e3e007fdb@squarespace.com
DTSTAMP:20161219T040736Z
DTSTART:20170119T233000Z
DTEND:20170120T013000Z
SUMMARY:GREG STEPS
END:VEVENT
END:VCALENDAR
