BEGIN:VCALENDAR
VERSION:2.0
PRODID:-//Squarespace Inc/Squarespace 6//v6//EN
BEGIN:VEVENT
UID:585b2ad8197aea5fc1e5f2b2@squarespace.com
DTSTAMP:20161222T012817Z
DTSTART:20170114T233000Z
DTEND:20170115T013000Z
SUMMARY:SELKI AND THE COMETS
END:VEVENT
END:VCALENDAR
