BEGIN:VCALENDAR
VERSION:2.0
PRODID:-//Squarespace Inc/Squarespace 6//v6//EN
BEGIN:VEVENT
UID:5877184659cc688e129be98d@squarespace.com
DTSTAMP:20170115T092942Z
DTSTART:20170209T233000Z
DTEND:20170210T013000Z
SUMMARY:Adrian Whitehead & Jethro Pickett
END:VEVENT
END:VCALENDAR
