BEGIN:VCALENDAR
VERSION:2.0
PRODID:-//Squarespace Inc/Squarespace 6//v6//EN
BEGIN:VEVENT
UID:587719c7c534a51486a25308@squarespace.com
DTSTAMP:20170115T094440Z
DTSTART:20170223T233000Z
DTEND:20170224T013000Z
SUMMARY:Jethro Pickett Duo
END:VEVENT
END:VCALENDAR
