BEGIN:VCALENDAR
VERSION:2.0
PRODID:-//Squarespace Inc/Squarespace 6//v6//EN
BEGIN:VEVENT
UID:587718f2bebafbb778a11356@squarespace.com
DTSTAMP:20170115T093303Z
DTSTART:20170202T233000Z
DTEND:20170203T013000Z
SUMMARY:Adrian Whitehead & Jethro Pickett
END:VEVENT
END:VCALENDAR
