BEGIN:VCALENDAR
VERSION:2.0
PRODID:-//Squarespace Inc/Squarespace 6//v6//EN
BEGIN:VEVENT
UID:585759b7b3db2bba04f38134@squarespace.com
DTSTAMP:20161219T035831Z
DTSTART:20170112T233000Z
DTEND:20170113T013000Z
SUMMARY:ISAAC DE HEER
END:VEVENT
END:VCALENDAR
