BEGIN:VCALENDAR
VERSION:2.0
PRODID:-//Squarespace Inc/Squarespace 6//v6//EN
BEGIN:VEVENT
UID:57b68bfd37c581c2b760f2f0@squarespace.com
DTSTAMP:20160819T043418Z
DTSTART:20160909T220000Z
DTEND:20160911T010000Z
SUMMARY:BEER 'O CLOCK!
END:VEVENT
END:VCALENDAR
