BEGIN:VCALENDAR
VERSION:2.0
PRODID:-//Squarespace Inc/Squarespace 6//v6//EN
BEGIN:VEVENT
UID:57b506cee58c624a6d34efc2@squarespace.com
DTSTAMP:20160818T005302Z
DTSTART:20160908T223000Z
DTEND:20160909T003000Z
SUMMARY:MR ALFORD
END:VEVENT
END:VCALENDAR
