BEGIN:VCALENDAR
VERSION:2.0
PRODID:-//Squarespace Inc/Squarespace 6//v6//EN
BEGIN:VEVENT
UID:57b68aba6a49637a910653f2@squarespace.com
DTSTAMP:20160819T042835Z
DTSTART:20160930T213000Z
DTEND:20161001T003000Z
SUMMARY:PUB BINGO WITH TREV & SPARX
END:VEVENT
END:VCALENDAR
