BEGIN:VCALENDAR
VERSION:2.0
PRODID:-//Squarespace Inc/Squarespace 6//v6//EN
BEGIN:VEVENT
UID:57b507f49f745661cd6ce5d1@squarespace.com
DTSTAMP:20160818T010036Z
DTSTART:20160903T223000Z
DTEND:20160904T003000Z
SUMMARY:GEORGIA STATE LINE (duo)
END:VEVENT
END:VCALENDAR
