BEGIN:VCALENDAR
VERSION:2.0
PRODID:-//Squarespace Inc/Squarespace 6//v6//EN
BEGIN:VEVENT
UID:57b507675016e111f821a0d5@squarespace.com
DTSTAMP:20160818T005605Z
DTSTART:20160929T223000Z
DTEND:20160930T003000Z
SUMMARY:MR ALFORD
END:VEVENT
END:VCALENDAR
