BEGIN:VCALENDAR
VERSION:2.0
PRODID:-//Squarespace Inc/Squarespace 6//v6//EN
BEGIN:VEVENT
UID:57b50941e3df28ee5e8e21d6@squarespace.com
DTSTAMP:20160818T010352Z
DTSTART:20160924T223000Z
DTEND:20160925T003000Z
SUMMARY:GEORGIA STATE LINE (duo)
END:VEVENT
END:VCALENDAR
