BEGIN:VCALENDAR
VERSION:2.0
PRODID:-//Squarespace Inc/Squarespace 6//v6//EN
BEGIN:VEVENT
UID:57b68a8603596e54256d05a2@squarespace.com
DTSTAMP:20160819T042719Z
DTSTART:20160923T213000Z
DTEND:20160924T003000Z
SUMMARY:PUB BINGO WITH TREV & SPARX
END:VEVENT
END:VCALENDAR
