BEGIN:VCALENDAR
VERSION:2.0
PRODID:-//Squarespace Inc/Squarespace 6//v6//EN
BEGIN:VEVENT
UID:57b68cc99de4bb8981a25162@squarespace.com
DTSTAMP:20160819T043757Z
DTSTART:20160923T220000Z
DTEND:20160924T010000Z
SUMMARY:BEER 'O CLOCK!
END:VEVENT
END:VCALENDAR
