BEGIN:VCALENDAR
VERSION:2.0
PRODID:-//Squarespace Inc/Squarespace 6//v6//EN
BEGIN:VEVENT
UID:57b5073db3db2b7747f3e25a@squarespace.com
DTSTAMP:20160818T005452Z
DTSTART:20160922T223000Z
DTEND:20160923T003000Z
SUMMARY:MR ALFORD
END:VEVENT
END:VCALENDAR
