BEGIN:VCALENDAR
VERSION:2.0
PRODID:-//Squarespace Inc/Squarespace 6//v6//EN
BEGIN:VEVENT
UID:57b689806b8f5b7701b75e8f@squarespace.com
DTSTAMP:20160819T042442Z
DTSTART:20160902T213000Z
DTEND:20160903T003000Z
SUMMARY:PUB BINGO WITH TREV & SPARX
END:VEVENT
END:VCALENDAR
