BEGIN:VCALENDAR
VERSION:2.0
PRODID:-//Squarespace Inc/Squarespace 6//v6//EN
BEGIN:VEVENT
UID:57b68b2946c3c467f4e20c9d@squarespace.com
DTSTAMP:20160819T043040Z
DTSTART:20160902T220000Z
DTEND:20160903T010000Z
SUMMARY:BEER 'O CLOCK!
END:VEVENT
END:VCALENDAR
