BEGIN:VCALENDAR
VERSION:2.0
PRODID:-//Squarespace Inc/Squarespace 6//v6//EN
BEGIN:VEVENT
UID:57b508f746c3c4fe72c4d28a@squarespace.com
DTSTAMP:20160818T010247Z
DTSTART:20160917T223000Z
DTEND:20160918T003000Z
SUMMARY:GEORGIA STATE LINE (duo)
END:VEVENT
END:VCALENDAR
