BEGIN:VCALENDAR
VERSION:2.0
PRODID:-//Squarespace Inc/Squarespace 6//v6//EN
BEGIN:VEVENT
UID:57b68a4ef5e2312e29385b9a@squarespace.com
DTSTAMP:20160819T042635Z
DTSTART:20160916T213000Z
DTEND:20160917T003000Z
SUMMARY:PUB BINGO WITH TREV & SPARX
END:VEVENT
END:VCALENDAR
