BEGIN:VCALENDAR
VERSION:2.0
PRODID:-//Squarespace Inc/Squarespace 6//v6//EN
BEGIN:VEVENT
UID:57b68c5bb3db2be1ceef807e@squarespace.com
DTSTAMP:20160819T043604Z
DTSTART:20160916T220000Z
DTEND:20160917T010000Z
SUMMARY:BEER 'O CLOCK!
END:VEVENT
END:VCALENDAR
